BEGIN:VCALENDAR
VERSION:2.0
PRODID:-//Children &amp; Nature Network - ECPv6.15.20//NONSGML v1.0//EN
CALSCALE:GREGORIAN
METHOD:PUBLISH
X-ORIGINAL-URL:https://www.childrenandnature.org
X-WR-CALDESC:Events for Children &amp; Nature Network
REFRESH-INTERVAL;VALUE=DURATION:PT1H
X-Robots-Tag:noindex
X-PUBLISHED-TTL:PT1H
BEGIN:VTIMEZONE
TZID:America/Chicago
BEGIN:DAYLIGHT
TZOFFSETFROM:-0600
TZOFFSETTO:-0500
TZNAME:CDT
DTSTART:20250309T080000
END:DAYLIGHT
BEGIN:STANDARD
TZOFFSETFROM:-0500
TZOFFSETTO:-0600
TZNAME:CST
DTSTART:20251102T070000
END:STANDARD
BEGIN:DAYLIGHT
TZOFFSETFROM:-0600
TZOFFSETTO:-0500
TZNAME:CDT
DTSTART:20260308T080000
END:DAYLIGHT
BEGIN:STANDARD
TZOFFSETFROM:-0500
TZOFFSETTO:-0600
TZNAME:CST
DTSTART:20261101T070000
END:STANDARD
BEGIN:DAYLIGHT
TZOFFSETFROM:-0600
TZOFFSETTO:-0500
TZNAME:CDT
DTSTART:20270314T080000
END:DAYLIGHT
BEGIN:STANDARD
TZOFFSETFROM:-0500
TZOFFSETTO:-0600
TZNAME:CST
DTSTART:20271107T070000
END:STANDARD
END:VTIMEZONE
BEGIN:VEVENT
DTSTART;TZID=America/Chicago:20260528T130000
DTEND;TZID=America/Chicago:20260528T143000
DTSTAMP:20260425T061739
CREATED:20260423T163735Z
LAST-MODIFIED:20260423T200458Z
UID:10000127-1779973200-1779978600@www.childrenandnature.org
SUMMARY:Richard Louv Prize for Innovation in Nature Connection Award Ceremony
DESCRIPTION:Join us in celebrating the winner of the 2026 Richard Louv Prize for Innovation in Nature Connection! \nIn addition to celebrating our 2026 prize recipient\, this virtual event will bring back past award winners\, including CJ Goulding and Jason Stout. It will also feature remarks from author and Children & Nature Network co-founder Richard Louv\, including a preview of his new book Noticing\, available in June 2026. \nNow in its fifth year\, the prize highlights creative\, impactful ways to ensure that kids can regularly experience the benefits of nature — everywhere they live\, learn and play. \nThis event is FREE but registration is required. There is a suggested donation of $20. If you can’t join us live\, register for the event and a recording will be sent to your inbox approximately two weeks after the event.
URL:https://www.childrenandnature.org/event/richard-louv-prize-for-innovation-in-nature-connection-award-ceremony/
LOCATION:Online Event
ATTACH;FMTTYPE=image/jpeg:https://www.childrenandnature.org/wp-content/uploads/RLP_socials_EVENTBRITE.jpg
END:VEVENT
END:VCALENDAR